##############################################################################
##############################################################################
###
### Running command:
###
###   rm -rf dce.buildbin-libdir && mkdir dce.buildbin-libdir && F:\biocbuild\bbs-3.20-bioc\R\bin\R.exe CMD INSTALL --build --library=dce.buildbin-libdir dce_1.13.0.tar.gz
###
##############################################################################
##############################################################################


* installing *source* package 'dce' ...
** using staged installation
** R
** data
*** moving datasets to lazyload DB
** inst
** byte-compile and prepare package for lazy loading
** help
*** installing help indices
*** copying figures
** building package indices
** installing vignettes
** testing if installed package can be loaded from temporary location
** testing if installed package can be loaded from final location
** testing if installed package keeps a record of temporary installation path
* MD5 sums
packaged installation of 'dce' as dce_1.13.0.zip
* DONE (dce)