Package: dce Version: 1.14.0 Command: /home/biocbuild/bbs-3.20-bioc/R/bin/R CMD INSTALL dce StartedAt: 2025-02-03 16:04:21 -0500 (Mon, 03 Feb 2025) EndedAt: 2025-02-03 16:04:56 -0500 (Mon, 03 Feb 2025) EllapsedTime: 35.0 seconds RetCode: 0 Status: OK