Package: dce
Version: 1.14.0
Command: /home/biocbuild/R/R/bin/R CMD build --keep-empty-dirs --no-resave-data dce
StartedAt: 2024-11-20 00:09:09 -0000 (Wed, 20 Nov 2024)
EndedAt: 2024-11-20 00:12:01 -0000 (Wed, 20 Nov 2024)
EllapsedTime: 172.2 seconds
RetCode: 1
Status: ERROR
PackageFile: None
PackageFileSize: NA