Package: dcanr Version: 1.24.0 Command: /Library/Frameworks/R.framework/Resources/bin/R CMD check --install=check:dcanr.install-out.txt --library=/Library/Frameworks/R.framework/Resources/library --no-vignettes --timings dcanr_1.24.0.tar.gz StartedAt: 2025-05-02 02:08:43 -0400 (Fri, 02 May 2025) EndedAt: 2025-05-02 02:11:03 -0400 (Fri, 02 May 2025) EllapsedTime: 140.3 seconds RetCode: 0 Status: OK CheckDir: dcanr.Rcheck Warnings: 0