Package: dcanr Version: 1.24.0 Command: rm -rf dcanr.buildbin-libdir && mkdir dcanr.buildbin-libdir && /Users/biocbuild/BBS/utils/build-universal.sh dcanr_1.24.0.tar.gz /Library/Frameworks/R.framework/Resources/bin/R dcanr.buildbin-libdir StartedAt: 2025-05-02 12:46:48 -0400 (Fri, 02 May 2025) EndedAt: 2025-05-02 12:48:29 -0400 (Fri, 02 May 2025) EllapsedTime: 101.4 seconds RetCode: 0 Status: OK PackageFile: dcanr_1.24.0.tgz PackageFileSize: 1.829 MiB