Package: dar Version: 1.4.0 Command: /Library/Frameworks/R.framework/Resources/bin/R CMD INSTALL dar StartedAt: 2025-05-22 16:41:55 -0400 (Thu, 22 May 2025) EndedAt: 2025-05-22 16:42:48 -0400 (Thu, 22 May 2025) EllapsedTime: 52.9 seconds RetCode: 0 Status: OK