Package: dandelionR Version: 1.2.0 Command: /home/biocbuild/bbs-3.22-bioc/R/bin/R CMD INSTALL dandelionR StartedAt: 2025-11-16 16:01:27 -0500 (Sun, 16 Nov 2025) EndedAt: 2025-11-16 16:02:12 -0500 (Sun, 16 Nov 2025) EllapsedTime: 45.2 seconds RetCode: 0 Status: OK