Package: dandelionR Version: 1.2.0 Command: /Library/Frameworks/R.framework/Resources/bin/R CMD INSTALL dandelionR StartedAt: 2025-11-06 15:29:55 -0500 (Thu, 06 Nov 2025) EndedAt: 2025-11-06 15:30:15 -0500 (Thu, 06 Nov 2025) EllapsedTime: 19.6 seconds RetCode: 0 Status: OK