Package: dandelionR Version: 1.2.0 Command: /Library/Frameworks/R.framework/Resources/bin/R CMD build --keep-empty-dirs --no-resave-data dandelionR StartedAt: 2025-11-06 16:07:39 -0500 (Thu, 06 Nov 2025) EndedAt: 2025-11-06 16:08:58 -0500 (Thu, 06 Nov 2025) EllapsedTime: 78.9 seconds RetCode: 0 Status: OK PackageFile: dandelionR_1.2.0.tar.gz PackageFileSize: 12.46 MiB