Package: dandelionR Version: 1.2.0 Command: rm -rf dandelionR.buildbin-libdir && mkdir dandelionR.buildbin-libdir && /Users/biocbuild/BBS/utils/build-universal.sh dandelionR_1.2.0.tar.gz /Library/Frameworks/R.framework/Resources/bin/R dandelionR.buildbin-libdir StartedAt: 2025-11-06 23:01:53 -0500 (Thu, 06 Nov 2025) EndedAt: 2025-11-06 23:02:11 -0500 (Thu, 06 Nov 2025) EllapsedTime: 18.3 seconds RetCode: 0 Status: OK PackageFile: dandelionR_1.2.0.tgz PackageFileSize: 12.58 MiB