Package: dagLogo Version: 1.44.0 Command: /home/biocbuild/R/R/bin/R CMD INSTALL dagLogo StartedAt: 2025-01-30 20:39:38 -0000 (Thu, 30 Jan 2025) EndedAt: 2025-01-30 20:40:33 -0000 (Thu, 30 Jan 2025) EllapsedTime: 55.1 seconds RetCode: 0 Status: OK