Package: dagLogo Version: 1.44.0 Command: rm -rf dagLogo.buildbin-libdir && mkdir dagLogo.buildbin-libdir && F:\biocbuild\bbs-3.20-bioc\R\bin\R.exe CMD INSTALL --build --library=dagLogo.buildbin-libdir dagLogo_1.44.0.tar.gz StartedAt: 2025-02-04 08:19:28 -0500 (Tue, 04 Feb 2025) EndedAt: 2025-02-04 08:20:28 -0500 (Tue, 04 Feb 2025) EllapsedTime: 59.6 seconds RetCode: 0 Status: OK PackageFile: dagLogo_1.44.0.zip PackageFileSize: 2.876 MiB