Package: dagLogo Version: 1.44.0 Command: /home/biocbuild/bbs-3.20-bioc/R/bin/R CMD check --install=check:dagLogo.install-out.txt --library=/home/biocbuild/bbs-3.20-bioc/R/site-library --timings dagLogo_1.44.0.tar.gz StartedAt: 2025-01-30 21:21:55 -0500 (Thu, 30 Jan 2025) EndedAt: 2025-01-30 21:29:03 -0500 (Thu, 30 Jan 2025) EllapsedTime: 427.4 seconds RetCode: 0 Status: OK CheckDir: dagLogo.Rcheck Warnings: 0