Package: dagLogo Version: 1.44.0 Command: /Library/Frameworks/R.framework/Resources/bin/R CMD INSTALL dagLogo StartedAt: 2025-02-10 16:39:04 -0500 (Mon, 10 Feb 2025) EndedAt: 2025-02-10 16:39:59 -0500 (Mon, 10 Feb 2025) EllapsedTime: 54.5 seconds RetCode: 0 Status: OK