Package: dagLogo Version: 1.44.0 Command: /Library/Frameworks/R.framework/Resources/bin/R CMD check --install=check:dagLogo.install-out.txt --library=/Library/Frameworks/R.framework/Resources/library --no-vignettes --timings dagLogo_1.44.0.tar.gz StartedAt: 2025-02-04 17:07:41 -0500 (Tue, 04 Feb 2025) EndedAt: 2025-02-04 17:14:51 -0500 (Tue, 04 Feb 2025) EllapsedTime: 430.2 seconds RetCode: 0 Status: OK CheckDir: dagLogo.Rcheck Warnings: 0