Package: dagLogo Version: 1.44.0 Command: /Library/Frameworks/R.framework/Resources/bin/R CMD build --keep-empty-dirs --no-resave-data dagLogo StartedAt: 2025-02-03 21:53:52 -0500 (Mon, 03 Feb 2025) EndedAt: 2025-02-03 21:56:02 -0500 (Mon, 03 Feb 2025) EllapsedTime: 129.0 seconds RetCode: 0 Status: OK PackageFile: dagLogo_1.44.0.tar.gz PackageFileSize: 3.112 MiB