Package: daMA Version: 1.80.0 Command: /Library/Frameworks/R.framework/Resources/bin/R CMD INSTALL daMA StartedAt: 2025-05-01 15:05:12 -0400 (Thu, 01 May 2025) EndedAt: 2025-05-01 15:05:44 -0400 (Thu, 01 May 2025) EllapsedTime: 31.2 seconds RetCode: 0 Status: OK