Package: daMA Version: 1.78.0 Command: /Library/Frameworks/R.framework/Resources/bin/R CMD INSTALL daMA StartedAt: 2025-01-30 15:06:33 -0500 (Thu, 30 Jan 2025) EndedAt: 2025-01-30 15:06:36 -0500 (Thu, 30 Jan 2025) EllapsedTime: 2.9 seconds RetCode: 0 Status: OK