Package: dStruct Version: 1.16.0 Command: /Library/Frameworks/R.framework/Resources/bin/R CMD INSTALL dStruct StartedAt: 2025-11-20 16:09:59 -0500 (Thu, 20 Nov 2025) EndedAt: 2025-11-20 16:10:05 -0500 (Thu, 20 Nov 2025) EllapsedTime: 6.2 seconds RetCode: 0 Status: OK