Package: dStruct Version: 1.16.0 Command: /Library/Frameworks/R.framework/Resources/bin/R CMD build --keep-empty-dirs --no-resave-data dStruct StartedAt: 2025-11-20 19:45:48 -0500 (Thu, 20 Nov 2025) EndedAt: 2025-11-20 19:46:31 -0500 (Thu, 20 Nov 2025) EllapsedTime: 42.6 seconds RetCode: 0 Status: OK PackageFile: dStruct_1.16.0.tar.gz PackageFileSize: 557.3 KiB