Package: dStruct Version: 1.16.0 Command: rm -rf dStruct.buildbin-libdir && mkdir dStruct.buildbin-libdir && /Users/biocbuild/BBS/utils/build-universal.sh dStruct_1.16.0.tar.gz /Library/Frameworks/R.framework/Resources/bin/R dStruct.buildbin-libdir StartedAt: 2025-11-21 14:38:31 -0500 (Fri, 21 Nov 2025) EndedAt: 2025-11-21 14:38:38 -0500 (Fri, 21 Nov 2025) EllapsedTime: 7.5 seconds RetCode: 0 Status: OK PackageFile: dStruct_1.16.0.tgz PackageFileSize: 596.8 KiB