Package: cytoviewer Version: 1.6.0 Command: F:\biocbuild\bbs-3.20-bioc\R\bin\R.exe CMD check --no-multiarch --install=check:cytoviewer.install-out.txt --library=F:\biocbuild\bbs-3.20-bioc\R\library --no-vignettes --timings cytoviewer_1.6.0.tar.gz StartedAt: 2025-01-03 00:39:51 -0500 (Fri, 03 Jan 2025) EndedAt: 2025-01-03 00:46:30 -0500 (Fri, 03 Jan 2025) EllapsedTime: 399.7 seconds RetCode: 0 Status: OK CheckDir: cytoviewer.Rcheck Warnings: 0