Package: cytomapper Version: 1.20.0 Command: chmod a+r cytomapper -R && E:\biocbuild\bbs-3.21-bioc\R\bin\R.exe CMD build --keep-empty-dirs --no-resave-data cytomapper StartedAt: 2025-08-14 18:22:22 -0400 (Thu, 14 Aug 2025) EndedAt: 2025-08-14 18:25:22 -0400 (Thu, 14 Aug 2025) EllapsedTime: 180.5 seconds RetCode: 0 Status: OK PackageFile: cytomapper_1.20.0.tar.gz PackageFileSize: 20.89 MiB