Package: cytomapper Version: 1.20.0 Command: rm -rf cytomapper.buildbin-libdir && mkdir cytomapper.buildbin-libdir && E:\biocbuild\bbs-3.21-bioc\R\bin\R.exe CMD INSTALL --build --library=cytomapper.buildbin-libdir cytomapper_1.20.0.tar.gz StartedAt: 2025-08-15 09:06:00 -0400 (Fri, 15 Aug 2025) EndedAt: 2025-08-15 09:08:34 -0400 (Fri, 15 Aug 2025) EllapsedTime: 154.2 seconds RetCode: 0 Status: OK PackageFile: cytomapper_1.20.0.zip PackageFileSize: 4.872 MiB