Package: cytomapper Version: 1.20.0 Command: /Library/Frameworks/R.framework/Resources/bin/R CMD check --install=check:cytomapper.install-out.txt --library=/Library/Frameworks/R.framework/Resources/library --no-vignettes --timings cytomapper_1.20.0.tar.gz StartedAt: 2025-05-13 02:38:27 -0400 (Tue, 13 May 2025) EndedAt: 2025-05-13 03:11:40 -0400 (Tue, 13 May 2025) EllapsedTime: 1992.5 seconds RetCode: 0 Status: OK CheckDir: cytomapper.Rcheck Warnings: 0