Package: cytomapper Version: 1.20.0 Command: /Library/Frameworks/R.framework/Resources/bin/R CMD INSTALL cytomapper StartedAt: 2025-04-21 15:30:24 -0400 (Mon, 21 Apr 2025) EndedAt: 2025-04-21 15:31:39 -0400 (Mon, 21 Apr 2025) EllapsedTime: 74.7 seconds RetCode: 0 Status: OK