Package: cytomapper Version: 1.20.0 Command: rm -rf cytomapper.buildbin-libdir && mkdir cytomapper.buildbin-libdir && /Users/biocbuild/BBS/utils/build-universal.sh cytomapper_1.20.0.tar.gz /Library/Frameworks/R.framework/Resources/bin/R cytomapper.buildbin-libdir StartedAt: 2025-04-22 00:41:05 -0400 (Tue, 22 Apr 2025) EndedAt: 2025-04-22 00:42:28 -0400 (Tue, 22 Apr 2025) EllapsedTime: 83.0 seconds RetCode: 0 Status: OK PackageFile: cytomapper_1.20.0.tgz PackageFileSize: 5.457 MiB