Package: cytofQC Version: 1.8.0 Maintainer: Jill Lundell MaintainerEmail: jflundell at gmail.com git_url: https://git.bioconductor.org/packages/cytofQC git_branch: RELEASE_3_21 git_last_commit: bd41aa0 git_last_commit_date: 2025-04-15 13:11:34 -0400 (Tue, 15 Apr 2025)