Package: cytoKernel Version: 1.14.0 Command: /home/biocbuild/R/R/bin/R CMD INSTALL cytoKernel StartedAt: 2025-05-12 20:28:58 -0000 (Mon, 12 May 2025) EndedAt: 2025-05-12 20:29:43 -0000 (Mon, 12 May 2025) EllapsedTime: 44.7 seconds RetCode: 0 Status: OK