Package: cytoKernel Version: 1.14.0 Command: /Library/Frameworks/R.framework/Resources/bin/R CMD build --keep-empty-dirs --no-resave-data cytoKernel StartedAt: 2025-04-21 16:04:04 -0400 (Mon, 21 Apr 2025) EndedAt: 2025-04-21 16:04:26 -0400 (Mon, 21 Apr 2025) EllapsedTime: 22.2 seconds RetCode: 0 Status: OK PackageFile: cytoKernel_1.14.0.tar.gz PackageFileSize: 705.7 KiB