Package: ctsGE Version: 1.32.0 Command: /home/biocbuild/R/R/bin/R CMD INSTALL ctsGE StartedAt: 2025-01-30 20:39:51 -0000 (Thu, 30 Jan 2025) EndedAt: 2025-01-30 20:39:59 -0000 (Thu, 30 Jan 2025) EllapsedTime: 7.9 seconds RetCode: 0 Status: OK