Package: ctsGE Version: 1.32.0 Command: /home/biocbuild/R/R/bin/R CMD build --keep-empty-dirs --no-resave-data ctsGE StartedAt: 2025-01-30 22:56:35 -0000 (Thu, 30 Jan 2025) EndedAt: 2025-01-30 22:57:05 -0000 (Thu, 30 Jan 2025) EllapsedTime: 30.0 seconds RetCode: 0 Status: OK PackageFile: ctsGE_1.32.0.tar.gz PackageFileSize: 812.9 KiB