Package: ctsGE Version: 1.34.0 Command: /Library/Frameworks/R.framework/Resources/bin/R CMD build --keep-empty-dirs --no-resave-data ctsGE StartedAt: 2025-05-01 18:09:41 -0400 (Thu, 01 May 2025) EndedAt: 2025-05-01 18:10:42 -0400 (Thu, 01 May 2025) EllapsedTime: 61.0 seconds RetCode: 0 Status: OK PackageFile: ctsGE_1.34.0.tar.gz PackageFileSize: 1.132 MiB