Package: ctsGE Version: 1.34.0 Command: rm -rf ctsGE.buildbin-libdir && mkdir ctsGE.buildbin-libdir && /Users/biocbuild/BBS/utils/build-universal.sh ctsGE_1.34.0.tar.gz /Library/Frameworks/R.framework/Resources/bin/R ctsGE.buildbin-libdir StartedAt: 2025-05-02 12:45:08 -0400 (Fri, 02 May 2025) EndedAt: 2025-05-02 12:45:24 -0400 (Fri, 02 May 2025) EllapsedTime: 15.7 seconds RetCode: 0 Status: OK PackageFile: ctsGE_1.34.0.tgz PackageFileSize: 1.169 MiB