Package: ctsGE Version: 1.34.0 Command: /Library/Frameworks/R.framework/Resources/bin/R CMD check --install=check:ctsGE.install-out.txt --library=/Library/Frameworks/R.framework/Resources/library --no-vignettes --timings ctsGE_1.34.0.tar.gz StartedAt: 2025-04-21 20:02:55 -0400 (Mon, 21 Apr 2025) EndedAt: 2025-04-21 20:03:54 -0400 (Mon, 21 Apr 2025) EllapsedTime: 59.7 seconds RetCode: 0 Status: OK CheckDir: ctsGE.Rcheck Warnings: 0