Package: ctsGE Version: 1.34.0 Command: /Library/Frameworks/R.framework/Resources/bin/R CMD build --keep-empty-dirs --no-resave-data ctsGE StartedAt: 2025-04-21 16:02:45 -0400 (Mon, 21 Apr 2025) EndedAt: 2025-04-21 16:02:55 -0400 (Mon, 21 Apr 2025) EllapsedTime: 10.1 seconds RetCode: 0 Status: OK PackageFile: ctsGE_1.34.0.tar.gz PackageFileSize: 1.132 MiB