Package: ctsGE Version: 1.34.0 Command: rm -rf ctsGE.buildbin-libdir && mkdir ctsGE.buildbin-libdir && /Users/biocbuild/BBS/utils/build-universal.sh ctsGE_1.34.0.tar.gz /Library/Frameworks/R.framework/Resources/bin/R ctsGE.buildbin-libdir StartedAt: 2025-04-21 22:31:43 -0400 (Mon, 21 Apr 2025) EndedAt: 2025-04-21 22:31:46 -0400 (Mon, 21 Apr 2025) EllapsedTime: 3.1 seconds RetCode: 0 Status: OK PackageFile: ctsGE_1.34.0.tgz PackageFileSize: 1.169 MiB