Package: csdR Version: 1.14.0 Command: rm -rf csdR.buildbin-libdir && mkdir csdR.buildbin-libdir && E:\biocbuild\bbs-3.21-bioc\R\bin\R.exe CMD INSTALL --build --library=csdR.buildbin-libdir csdR_1.14.0.tar.gz StartedAt: 2025-08-15 09:04:54 -0400 (Fri, 15 Aug 2025) EndedAt: 2025-08-15 09:05:35 -0400 (Fri, 15 Aug 2025) EllapsedTime: 40.5 seconds RetCode: 0 Status: OK PackageFile: csdR_1.14.0.zip PackageFileSize: 1.793 MiB