Package: csdR Version: 1.14.0 Maintainer: Jakob Peder Pettersen MaintainerEmail: jakobpeder.pettersen at gmail.com git_url: https://git.bioconductor.org/packages/csdR git_branch: RELEASE_3_21 git_last_commit: d0d0179 git_last_commit_date: 2025-04-15 12:34:30 -0400 (Tue, 15 Apr 2025)