Package: csaw Version: 1.42.0 Command: /Library/Frameworks/R.framework/Resources/bin/R CMD INSTALL csaw StartedAt: 2025-05-26 16:14:02 -0400 (Mon, 26 May 2025) EndedAt: 2025-05-26 16:16:37 -0400 (Mon, 26 May 2025) EllapsedTime: 155.1 seconds RetCode: 0 Status: OK