Package: csaw Version: 1.42.0 Command: rm -rf csaw.buildbin-libdir && mkdir csaw.buildbin-libdir && /Users/biocbuild/BBS/utils/build-universal.sh csaw_1.42.0.tar.gz /Library/Frameworks/R.framework/Resources/bin/R csaw.buildbin-libdir StartedAt: 2025-04-22 00:40:34 -0400 (Tue, 22 Apr 2025) EndedAt: 2025-04-22 00:42:14 -0400 (Tue, 22 Apr 2025) EllapsedTime: 100.2 seconds RetCode: 0 Status: OK PackageFile: csaw_1.42.0.tgz PackageFileSize: 1.321 MiB