Package: csaw Version: 1.42.0 Command: /home/biocbuild/R/R/bin/R CMD INSTALL csaw StartedAt: 2025-04-21 20:29:39 -0000 (Mon, 21 Apr 2025) EndedAt: 2025-04-21 20:31:32 -0000 (Mon, 21 Apr 2025) EllapsedTime: 112.7 seconds RetCode: 0 Status: OK