Package: crupR Version: 1.2.0 Command: /Library/Frameworks/R.framework/Resources/bin/R CMD INSTALL crupR StartedAt: 2025-11-03 15:53:01 -0500 (Mon, 03 Nov 2025) EndedAt: 2025-11-03 15:53:54 -0500 (Mon, 03 Nov 2025) EllapsedTime: 53.2 seconds RetCode: 0 Status: OK