Package: crupR Version: 1.2.0 Command: rm -rf crupR.buildbin-libdir && mkdir crupR.buildbin-libdir && /Users/biocbuild/BBS/utils/build-universal.sh crupR_1.2.0.tar.gz /Library/Frameworks/R.framework/Resources/bin/R crupR.buildbin-libdir StartedAt: 2025-11-04 01:35:03 -0500 (Tue, 04 Nov 2025) EndedAt: 2025-11-04 01:36:01 -0500 (Tue, 04 Nov 2025) EllapsedTime: 58.2 seconds RetCode: 0 Status: OK PackageFile: crupR_1.2.0.tgz PackageFileSize: 4.244 MiB