Package: crupR Version: 1.2.0 Command: /Library/Frameworks/R.framework/Resources/bin/R CMD INSTALL crupR StartedAt: 2025-11-02 15:31:44 -0500 (Sun, 02 Nov 2025) EndedAt: 2025-11-02 15:32:01 -0500 (Sun, 02 Nov 2025) EllapsedTime: 16.4 seconds RetCode: 0 Status: OK