Package: crumblr Version: 1.2.0 Command: /home/biocbuild/bbs-3.22-bioc/R/bin/R CMD INSTALL crumblr StartedAt: 2025-11-05 16:07:00 -0500 (Wed, 05 Nov 2025) EndedAt: 2025-11-05 16:07:32 -0500 (Wed, 05 Nov 2025) EllapsedTime: 32.0 seconds RetCode: 0 Status: OK