Package: crumblr Version: 1.2.0 Command: /home/biocbuild/bbs-3.22-bioc/R/bin/R CMD build --keep-empty-dirs --no-resave-data --md5 crumblr StartedAt: 2025-11-05 17:13:36 -0500 (Wed, 05 Nov 2025) EndedAt: 2025-11-05 17:15:23 -0500 (Wed, 05 Nov 2025) EllapsedTime: 107.1 seconds RetCode: 0 Status: OK PackageFile: crumblr_1.2.0.tar.gz PackageFileSize: 1.823 MiB