Package: crossmeta Version: 1.32.0 Command: /home/biocbuild/R/R/bin/R CMD check --install=check:crossmeta.install-out.txt --library=/home/biocbuild/R/R/site-library --no-vignettes --timings crossmeta_1.32.0.tar.gz StartedAt: 2025-01-31 05:18:34 -0000 (Fri, 31 Jan 2025) EndedAt: 2025-01-31 05:20:38 -0000 (Fri, 31 Jan 2025) EllapsedTime: 124.1 seconds RetCode: 1 Status: ERROR CheckDir: crossmeta.Rcheck Warnings: NA