Package: crossmeta Version: 1.34.0 Command: E:\biocbuild\bbs-3.21-bioc\R\bin\R.exe CMD INSTALL crossmeta StartedAt: 2025-08-14 16:37:24 -0400 (Thu, 14 Aug 2025) EndedAt: 2025-08-14 16:38:02 -0400 (Thu, 14 Aug 2025) EllapsedTime: 38.0 seconds RetCode: 0 Status: OK