Package: crossmeta Version: 1.34.0 Command: chmod a+r crossmeta -R && E:\biocbuild\bbs-3.21-bioc\R\bin\R.exe CMD build --keep-empty-dirs --no-resave-data crossmeta StartedAt: 2025-08-14 18:18:46 -0400 (Thu, 14 Aug 2025) EndedAt: 2025-08-14 18:21:27 -0400 (Thu, 14 Aug 2025) EllapsedTime: 161.2 seconds RetCode: 0 Status: OK PackageFile: crossmeta_1.34.0.tar.gz PackageFileSize: 2.951 MiB